{
 "currentVersion": 10.91,
 "serviceDescription": "PP Flood Risk Management - Tidal and Fluvial High Risk zones",
 "mapName": "Layers",
 "description": "",
 "copyrightText": "Department of Infrastructure",
 "supportsDynamicLayers": true,
 "layers": [
  {
   "id": 0,
   "name": "High Risk Flood Zones (River And Tidal)",
   "parentLayerId": -1,
   "defaultVisibility": true,
   "subLayerIds": null,
   "minScale": 320000,
   "maxScale": 5000,
   "type": "Feature Layer",
   "geometryType": "esriGeometryPolygon"
  },
  {
   "id": 1,
   "name": "High Risk Flood Zones (Tidal)",
   "parentLayerId": -1,
   "defaultVisibility": true,
   "subLayerIds": null,
   "minScale": 320000,
   "maxScale": 5000,
   "type": "Feature Layer",
   "geometryType": "esriGeometryPolygon"
  },
  {
   "id": 2,
   "name": "High Risk Flood Zones (River)",
   "parentLayerId": -1,
   "defaultVisibility": true,
   "subLayerIds": null,
   "minScale": 320000,
   "maxScale": 5000,
   "type": "Feature Layer",
   "geometryType": "esriGeometryPolygon"
  }
 ],
 "tables": [],
 "spatialReference": {
  "wkid": 27700,
  "latestWkid": 27700
 },
 "singleFusedMapCache": true,
 "tileInfo": {
  "rows": 256,
  "cols": 256,
  "dpi": 96,
  "format": "PNG",
  "compressionQuality": 0,
  "origin": {
   "x": -5220400,
   "y": 4470200
  },
  "spatialReference": {
   "wkid": 27700,
   "latestWkid": 27700
  },
  "lods": [
   {
    "level": 0,
    "resolution": 84.66683600033868,
    "scale": 320000
   },
   {
    "level": 1,
    "resolution": 42.33341800016934,
    "scale": 160000
   },
   {
    "level": 2,
    "resolution": 21.16670900008467,
    "scale": 80000
   },
   {
    "level": 3,
    "resolution": 10.583354500042335,
    "scale": 40000
   },
   {
    "level": 4,
    "resolution": 5.291677250021167,
    "scale": 20000
   },
   {
    "level": 5,
    "resolution": 2.6458386250105836,
    "scale": 10000
   },
   {
    "level": 6,
    "resolution": 1.3229193125052918,
    "scale": 5000
   },
   {
    "level": 7,
    "resolution": 0.6614596562526459,
    "scale": 2500
   },
   {
    "level": 8,
    "resolution": 0.33072982812632296,
    "scale": 1250
   },
   {
    "level": 9,
    "resolution": 0.16536491406316148,
    "scale": 625
   }
  ]
 },
 "initialExtent": {
  "xmin": 170392.1037555415,
  "ymin": 474458.4599428386,
  "xmax": 294513.685332038,
  "ymax": 522633.88962703134,
  "spatialReference": {
   "wkid": 27700,
   "latestWkid": 27700
  }
 },
 "fullExtent": {
  "xmin": 219259.12501300126,
  "ymin": 466780.34700000286,
  "xmax": 246954.99969999958,
  "ymax": 505197.00019999966,
  "spatialReference": {
   "wkid": 27700,
   "latestWkid": 27700
  }
 },
 "minScale": 320000,
 "maxScale": 5000,
 "units": "esriMeters",
 "supportedImageFormatTypes": "PNG32,PNG24,PNG,JPG,DIB,TIFF,EMF,PS,PDF,GIF,SVG,SVGZ,BMP",
 "documentInfo": {
  "Title": "",
  "Author": "",
  "Comments": "PP Flood Risk ManaMUAgement",
  "Subject": "PP Flood Risk Management",
  "Category": "",
  "AntialiasingMode": "Fastest",
  "TextAntialiasingMode": "Force",
  "Keywords": "Flood"
 },
 "capabilities": "Map,Query,Data",
 "supportedQueryFormats": "JSON, geoJSON",
 "exportTilesAllowed": false,
 "referenceScale": 0,
 "supportsDatumTransformation": true,
 "maxRecordCount": 1000,
 "maxImageHeight": 4096,
 "maxImageWidth": 4096,
 "supportedExtensions": ""
}
